BEGIN:VCALENDAR
VERSION:2.0
PRODID:-//Richmond Pride - ECPv6.15.20//NONSGML v1.0//EN
CALSCALE:GREGORIAN
METHOD:PUBLISH
X-WR-CALNAME:Richmond Pride
X-ORIGINAL-URL:https://richmondpride.org
X-WR-CALDESC:Events for Richmond Pride
REFRESH-INTERVAL;VALUE=DURATION:PT1H
X-Robots-Tag:noindex
X-PUBLISHED-TTL:PT1H
BEGIN:VTIMEZONE
TZID:America/Kentucky/Louisville
BEGIN:DAYLIGHT
TZOFFSETFROM:-0500
TZOFFSETTO:-0400
TZNAME:EDT
DTSTART:20240310T070000
END:DAYLIGHT
BEGIN:STANDARD
TZOFFSETFROM:-0400
TZOFFSETTO:-0500
TZNAME:EST
DTSTART:20241103T060000
END:STANDARD
BEGIN:DAYLIGHT
TZOFFSETFROM:-0500
TZOFFSETTO:-0400
TZNAME:EDT
DTSTART:20250309T070000
END:DAYLIGHT
BEGIN:STANDARD
TZOFFSETFROM:-0400
TZOFFSETTO:-0500
TZNAME:EST
DTSTART:20251102T060000
END:STANDARD
BEGIN:DAYLIGHT
TZOFFSETFROM:-0500
TZOFFSETTO:-0400
TZNAME:EDT
DTSTART:20260308T070000
END:DAYLIGHT
BEGIN:STANDARD
TZOFFSETFROM:-0400
TZOFFSETTO:-0500
TZNAME:EST
DTSTART:20261101T060000
END:STANDARD
END:VTIMEZONE
BEGIN:VTIMEZONE
TZID:America/New_York
BEGIN:DAYLIGHT
TZOFFSETFROM:-0500
TZOFFSETTO:-0400
TZNAME:EDT
DTSTART:20240310T070000
END:DAYLIGHT
BEGIN:STANDARD
TZOFFSETFROM:-0400
TZOFFSETTO:-0500
TZNAME:EST
DTSTART:20241103T060000
END:STANDARD
BEGIN:DAYLIGHT
TZOFFSETFROM:-0500
TZOFFSETTO:-0400
TZNAME:EDT
DTSTART:20250309T070000
END:DAYLIGHT
BEGIN:STANDARD
TZOFFSETFROM:-0400
TZOFFSETTO:-0500
TZNAME:EST
DTSTART:20251102T060000
END:STANDARD
BEGIN:DAYLIGHT
TZOFFSETFROM:-0500
TZOFFSETTO:-0400
TZNAME:EDT
DTSTART:20260308T070000
END:DAYLIGHT
BEGIN:STANDARD
TZOFFSETFROM:-0400
TZOFFSETTO:-0500
TZNAME:EST
DTSTART:20261101T060000
END:STANDARD
END:VTIMEZONE
BEGIN:VEVENT
DTSTART;TZID=America/Kentucky/Louisville:20251018T120000
DTEND;TZID=America/Kentucky/Louisville:20251018T180000
DTSTAMP:20260424T071334
CREATED:20250220T091233Z
LAST-MODIFIED:20251013T190604Z
UID:318-1760788800-1760810400@richmondpride.org
SUMMARY:Danville KY Pride
DESCRIPTION:Committed to fostering a welcoming\, inclusive\, and affirming community in Danville\, Kentucky. 🏳️‍🌈🏳️‍⚧️
URL:https://richmondpride.org/event/danville-ky-pride/
LOCATION:Pioneer Playhouse\, 840 Stanford Rd\, Danville\, Kentucky\, 40422\, United States
CATEGORIES:Festivals
ATTACH;FMTTYPE=image/jpeg:https://richmondpride.org/wp-content/uploads/2025/02/546933324_122201547512310956_7957360305540491468_n.jpg
END:VEVENT
BEGIN:VEVENT
DTSTART;TZID=America/New_York:20251018T173000
DTEND;TZID=America/New_York:20251018T203000
DTSTAMP:20260424T071334
CREATED:20251013T191138Z
LAST-MODIFIED:20251013T205130Z
UID:765-1760808600-1760819400@richmondpride.org
SUMMARY:Monthly Community Social
DESCRIPTION:Richmond Pride’s monthly community social is a meetup for Richmond’s LGBT community to come together and hang out every third Saturday of the month.  Free pizza and snacks are provided! \n\n\n\nThis meetup will be held at the parish house next to the Episcopal Church off of Lexington Road.
URL:https://richmondpride.org/event/monthly-community-social/
LOCATION:Episcopal Church of Our Savior Parish House\, 2323 Lexington Rd\, Richmond\, Kentucky\, 40475\, United States
CATEGORIES:Community Meetups
ATTACH;FMTTYPE=image/jpeg:https://richmondpride.org/wp-content/uploads/2025/02/490986796_1045672020798138_3365526446696094039_n-1024x1024-1.jpg
ORGANIZER;CN="Richmond Pride":MAILTO:hello@richmondpride.org
END:VEVENT
END:VCALENDAR