BEGIN:VCALENDAR
VERSION:2.0
PRODID:-//Richmond Pride - ECPv6.15.20//NONSGML v1.0//EN
CALSCALE:GREGORIAN
METHOD:PUBLISH
X-WR-CALNAME:Richmond Pride
X-ORIGINAL-URL:https://richmondpride.org
X-WR-CALDESC:Events for Richmond Pride
REFRESH-INTERVAL;VALUE=DURATION:PT1H
X-Robots-Tag:noindex
X-PUBLISHED-TTL:PT1H
BEGIN:VTIMEZONE
TZID:America/New_York
BEGIN:DAYLIGHT
TZOFFSETFROM:-0500
TZOFFSETTO:-0400
TZNAME:EDT
DTSTART:20250309T070000
END:DAYLIGHT
BEGIN:STANDARD
TZOFFSETFROM:-0400
TZOFFSETTO:-0500
TZNAME:EST
DTSTART:20251102T060000
END:STANDARD
BEGIN:DAYLIGHT
TZOFFSETFROM:-0500
TZOFFSETTO:-0400
TZNAME:EDT
DTSTART:20260308T070000
END:DAYLIGHT
BEGIN:STANDARD
TZOFFSETFROM:-0400
TZOFFSETTO:-0500
TZNAME:EST
DTSTART:20261101T060000
END:STANDARD
BEGIN:DAYLIGHT
TZOFFSETFROM:-0500
TZOFFSETTO:-0400
TZNAME:EDT
DTSTART:20270314T070000
END:DAYLIGHT
BEGIN:STANDARD
TZOFFSETFROM:-0400
TZOFFSETTO:-0500
TZNAME:EST
DTSTART:20271107T060000
END:STANDARD
END:VTIMEZONE
BEGIN:VEVENT
DTSTART;TZID=America/New_York:20260316T190000
DTEND;TZID=America/New_York:20260316T210000
DTSTAMP:20260423T224534
CREATED:20260308T011146Z
LAST-MODIFIED:20260308T011323Z
UID:1008-1773687600-1773694800@richmondpride.org
SUMMARY:Drag Bingo
DESCRIPTION:Join Richmond Pride for a fabulous night of Drag Bingo at Dreaming Creek Brewery! \n\n\n\nBingo cards are $5 each\, and all proceeds support the work of Richmond Pride. \n\n\n\nThe evening will be hosted by Hurricane Katrina and The Goddess Koko Taylor\, with special guests Gemini Jewels and Hendrix Hartwig. \n\n\n\nBring your friends\, grab a drink\, and settle in for a fun community night of drag performances and bingo.
URL:https://richmondpride.org/event/drag-bingo-2/
LOCATION:Dreaming Creek Brewery\, 109 E Irvine St\, Richmond\, KY\, 40475\, United States
ATTACH;FMTTYPE=image/jpeg:https://richmondpride.org/wp-content/uploads/2026/03/646556622_1454764239767975_2062126869974800211_n.jpg
ORGANIZER;CN="Richmond Pride":MAILTO:hello@richmondpride.org
END:VEVENT
END:VCALENDAR