BEGIN:VCALENDAR
VERSION:2.0
PRODID:-//Richmond Pride - ECPv6.15.20//NONSGML v1.0//EN
CALSCALE:GREGORIAN
METHOD:PUBLISH
X-WR-CALNAME:Richmond Pride
X-ORIGINAL-URL:https://richmondpride.org
X-WR-CALDESC:Events for Richmond Pride
REFRESH-INTERVAL;VALUE=DURATION:PT1H
X-Robots-Tag:noindex
X-PUBLISHED-TTL:PT1H
BEGIN:VTIMEZONE
TZID:America/New_York
BEGIN:DAYLIGHT
TZOFFSETFROM:-0500
TZOFFSETTO:-0400
TZNAME:EDT
DTSTART:20250309T070000
END:DAYLIGHT
BEGIN:STANDARD
TZOFFSETFROM:-0400
TZOFFSETTO:-0500
TZNAME:EST
DTSTART:20251102T060000
END:STANDARD
BEGIN:DAYLIGHT
TZOFFSETFROM:-0500
TZOFFSETTO:-0400
TZNAME:EDT
DTSTART:20260308T070000
END:DAYLIGHT
BEGIN:STANDARD
TZOFFSETFROM:-0400
TZOFFSETTO:-0500
TZNAME:EST
DTSTART:20261101T060000
END:STANDARD
BEGIN:DAYLIGHT
TZOFFSETFROM:-0500
TZOFFSETTO:-0400
TZNAME:EDT
DTSTART:20270314T070000
END:DAYLIGHT
BEGIN:STANDARD
TZOFFSETFROM:-0400
TZOFFSETTO:-0500
TZNAME:EST
DTSTART:20271107T060000
END:STANDARD
END:VTIMEZONE
BEGIN:VEVENT
DTSTART;TZID=America/New_York:20260425T100000
DTEND;TZID=America/New_York:20260425T120000
DTSTAMP:20260420T072706
CREATED:20260327T173835Z
LAST-MODIFIED:20260327T173837Z
UID:1050-1777111200-1777118400@richmondpride.org
SUMMARY:Auto Maintenance Workshop
DESCRIPTION:Never learned about cars? Want to feel confident problem solving small things or before heading to the mechanic? Need to save some money on car maintenance? Join us for a FREE auto maintenance workshop! \n\n\n\nWe will be showing automotive basics including: \n\n\n\n-Checking fluids-The process of changing a tire-Basic maintenance-Resources-Etc. \n\n\n\nThis event is open to all\, and will serve as a safe space for queer individuals to learn basic auto maintenance. \n\n\n\nNote: We will be demonstrating these tasks\, but will not be making repairs on individual cars.
URL:https://richmondpride.org/event/auto-maintenance-workshop/
LOCATION:Episcopal Church of Our Savior Parish House\, 2323 Lexington Rd\, Richmond\, Kentucky\, 40475\, United States
ATTACH;FMTTYPE=image/jpeg:https://richmondpride.org/wp-content/uploads/2026/03/651372064_1463115705599495_8189751242413200540_n.jpg
ORGANIZER;CN="Richmond Pride":MAILTO:hello@richmondpride.org
END:VEVENT
BEGIN:VEVENT
DTSTART;TZID=America/New_York:20260516T173000
DTEND;TZID=America/New_York:20260516T203000
DTSTAMP:20260420T072706
CREATED:20260111T213044Z
LAST-MODIFIED:20260327T213952Z
UID:948-1778952600-1778963400@richmondpride.org
SUMMARY:Monthly Community Social
DESCRIPTION:Richmond Pride’s monthly community social is a meetup for Richmond’s LGBT community to come together and hang out every third Saturday of the month. \n\n\n\nLocation TBD.
URL:https://richmondpride.org/event/monthly-community-social-6/
LOCATION:Kentucky
ORGANIZER;CN="Richmond Pride":MAILTO:hello@richmondpride.org
END:VEVENT
BEGIN:VEVENT
DTSTART;TZID=America/New_York:20260613T120000
DTEND;TZID=America/New_York:20260613T200000
DTSTAMP:20260420T072706
CREATED:20251209T194839Z
LAST-MODIFIED:20260308T004821Z
UID:858-1781352000-1781380800@richmondpride.org
SUMMARY:6th Annual Richmond Pride Festival
DESCRIPTION:We here at Richmond Pride are so excited to announce the details for our next Pride festival! \n\n\n\nIt will be held Saturday\, June 13th 2026 in historic downtown Richmond from 12pm – 8pm. We will release more details soon. \n\n\n\nSee our Pride 2026 page for more information. \n\n\n\nFor vendors:We will post the vendor sign up form at the start of the new year so stay on the lookout. S
URL:https://richmondpride.org/event/6th-annual-richmond-pride-festival/
LOCATION:TBA\, Richmond\, Kentucky\, 40475\, United States
ATTACH;FMTTYPE=image/jpeg:https://richmondpride.org/wp-content/uploads/2025/12/586466501_1371267141451019_2235893539418500300_n.jpg
ORGANIZER;CN="Richmond Pride":MAILTO:hello@richmondpride.org
END:VEVENT
BEGIN:VEVENT
DTSTART;TZID=America/New_York:20260620T173000
DTEND;TZID=America/New_York:20260620T203000
DTSTAMP:20260420T072706
CREATED:20260111T213139Z
LAST-MODIFIED:20260308T003048Z
UID:950-1781976600-1781987400@richmondpride.org
SUMMARY:Monthly Community Social
DESCRIPTION:Richmond Pride’s monthly community social is a meetup for Richmond’s LGBT community to come together and hang out every third Saturday of the month. Free food and refreshments are provided! \n\n\n\nLocation TBD.
URL:https://richmondpride.org/event/monthly-community-social-7/
LOCATION:Kentucky
ORGANIZER;CN="Richmond Pride":MAILTO:hello@richmondpride.org
END:VEVENT
BEGIN:VEVENT
DTSTART;TZID=America/New_York:20260718T173000
DTEND;TZID=America/New_York:20260718T203000
DTSTAMP:20260420T072706
CREATED:20260111T213223Z
LAST-MODIFIED:20260308T003246Z
UID:952-1784395800-1784406600@richmondpride.org
SUMMARY:Monthly Community Social
DESCRIPTION:Richmond Pride’s monthly community social is a meetup for Richmond’s LGBT community to come together and hang out every third Saturday of the month. Free food and refreshments are provided! \n\n\n\nLocation TBD.
URL:https://richmondpride.org/event/monthly-community-social-8/
LOCATION:Kentucky
ORGANIZER;CN="Richmond Pride":MAILTO:hello@richmondpride.org
END:VEVENT
BEGIN:VEVENT
DTSTART;TZID=America/New_York:20260815T173000
DTEND;TZID=America/New_York:20260815T203000
DTSTAMP:20260420T072706
CREATED:20260111T213312Z
LAST-MODIFIED:20260308T003318Z
UID:954-1786815000-1786825800@richmondpride.org
SUMMARY:Monthly Community Social
DESCRIPTION:Richmond Pride’s monthly community social is a meetup for Richmond’s LGBT community to come together and hang out every third Saturday of the month. Free food and refreshments are provided! \n\n\n\nLocation TBD.
URL:https://richmondpride.org/event/monthly-community-social-9/
LOCATION:Kentucky
ORGANIZER;CN="Richmond Pride":MAILTO:hello@richmondpride.org
END:VEVENT
BEGIN:VEVENT
DTSTART;TZID=America/New_York:20260919T173000
DTEND;TZID=America/New_York:20260919T203000
DTSTAMP:20260420T072706
CREATED:20260111T213407Z
LAST-MODIFIED:20260308T003233Z
UID:956-1789839000-1789849800@richmondpride.org
SUMMARY:Monthly Community Social
DESCRIPTION:Richmond Pride’s monthly community social is a meetup for Richmond’s LGBT community to come together and hang out every third Saturday of the month. Free food and refreshments are provided! \n\n\n\nLocation TBD.
URL:https://richmondpride.org/event/monthly-community-social-10/
LOCATION:Kentucky
ORGANIZER;CN="Richmond Pride":MAILTO:hello@richmondpride.org
END:VEVENT
BEGIN:VEVENT
DTSTART;TZID=America/New_York:20261017T173000
DTEND;TZID=America/New_York:20261017T203000
DTSTAMP:20260420T072706
CREATED:20260111T213444Z
LAST-MODIFIED:20260308T003240Z
UID:958-1792258200-1792269000@richmondpride.org
SUMMARY:Monthly Community Social
DESCRIPTION:Richmond Pride’s monthly community social is a meetup for Richmond’s LGBT community to come together and hang out every third Saturday of the month. Free food and refreshments are provided! \n\n\n\nLocation TBD.
URL:https://richmondpride.org/event/monthly-community-social-11/
LOCATION:Kentucky
ORGANIZER;CN="Richmond Pride":MAILTO:hello@richmondpride.org
END:VEVENT
END:VCALENDAR