BEGIN:VCALENDAR
VERSION:2.0
PRODID:-//Richmond Pride - ECPv6.15.20//NONSGML v1.0//EN
CALSCALE:GREGORIAN
METHOD:PUBLISH
X-WR-CALNAME:Richmond Pride
X-ORIGINAL-URL:https://richmondpride.org
X-WR-CALDESC:Events for Richmond Pride
REFRESH-INTERVAL;VALUE=DURATION:PT1H
X-Robots-Tag:noindex
X-PUBLISHED-TTL:PT1H
BEGIN:VTIMEZONE
TZID:America/New_York
BEGIN:DAYLIGHT
TZOFFSETFROM:-0500
TZOFFSETTO:-0400
TZNAME:EDT
DTSTART:20250309T070000
END:DAYLIGHT
BEGIN:STANDARD
TZOFFSETFROM:-0400
TZOFFSETTO:-0500
TZNAME:EST
DTSTART:20251102T060000
END:STANDARD
BEGIN:DAYLIGHT
TZOFFSETFROM:-0500
TZOFFSETTO:-0400
TZNAME:EDT
DTSTART:20260308T070000
END:DAYLIGHT
BEGIN:STANDARD
TZOFFSETFROM:-0400
TZOFFSETTO:-0500
TZNAME:EST
DTSTART:20261101T060000
END:STANDARD
BEGIN:DAYLIGHT
TZOFFSETFROM:-0500
TZOFFSETTO:-0400
TZNAME:EDT
DTSTART:20270314T070000
END:DAYLIGHT
BEGIN:STANDARD
TZOFFSETFROM:-0400
TZOFFSETTO:-0500
TZNAME:EST
DTSTART:20271107T060000
END:STANDARD
END:VTIMEZONE
BEGIN:VEVENT
DTSTART;TZID=America/New_York:20260919T173000
DTEND;TZID=America/New_York:20260919T203000
DTSTAMP:20260425T102244
CREATED:20260111T213407Z
LAST-MODIFIED:20260308T003233Z
UID:956-1789839000-1789849800@richmondpride.org
SUMMARY:Monthly Community Social
DESCRIPTION:Richmond Pride’s monthly community social is a meetup for Richmond’s LGBT community to come together and hang out every third Saturday of the month. Free food and refreshments are provided! \n\n\n\nLocation TBD.
URL:https://richmondpride.org/event/monthly-community-social-10/
LOCATION:KY
ORGANIZER;CN="Richmond Pride":MAILTO:hello@richmondpride.org
END:VEVENT
BEGIN:VEVENT
DTSTART;TZID=America/New_York:20261017T173000
DTEND;TZID=America/New_York:20261017T203000
DTSTAMP:20260425T102244
CREATED:20260111T213444Z
LAST-MODIFIED:20260308T003240Z
UID:958-1792258200-1792269000@richmondpride.org
SUMMARY:Monthly Community Social
DESCRIPTION:Richmond Pride’s monthly community social is a meetup for Richmond’s LGBT community to come together and hang out every third Saturday of the month. Free food and refreshments are provided! \n\n\n\nLocation TBD.
URL:https://richmondpride.org/event/monthly-community-social-11/
LOCATION:KY
ORGANIZER;CN="Richmond Pride":MAILTO:hello@richmondpride.org
END:VEVENT
END:VCALENDAR