BEGIN:VCALENDAR
VERSION:2.0
PRODID:-//Richmond Pride - ECPv6.15.20//NONSGML v1.0//EN
CALSCALE:GREGORIAN
METHOD:PUBLISH
X-ORIGINAL-URL:https://richmondpride.org
X-WR-CALDESC:Events for Richmond Pride
REFRESH-INTERVAL;VALUE=DURATION:PT1H
X-Robots-Tag:noindex
X-PUBLISHED-TTL:PT1H
BEGIN:VTIMEZONE
TZID:America/New_York
BEGIN:DAYLIGHT
TZOFFSETFROM:-0500
TZOFFSETTO:-0400
TZNAME:EDT
DTSTART:20240310T070000
END:DAYLIGHT
BEGIN:STANDARD
TZOFFSETFROM:-0400
TZOFFSETTO:-0500
TZNAME:EST
DTSTART:20241103T060000
END:STANDARD
BEGIN:DAYLIGHT
TZOFFSETFROM:-0500
TZOFFSETTO:-0400
TZNAME:EDT
DTSTART:20250309T070000
END:DAYLIGHT
BEGIN:STANDARD
TZOFFSETFROM:-0400
TZOFFSETTO:-0500
TZNAME:EST
DTSTART:20251102T060000
END:STANDARD
BEGIN:DAYLIGHT
TZOFFSETFROM:-0500
TZOFFSETTO:-0400
TZNAME:EDT
DTSTART:20260308T070000
END:DAYLIGHT
BEGIN:STANDARD
TZOFFSETFROM:-0400
TZOFFSETTO:-0500
TZNAME:EST
DTSTART:20261101T060000
END:STANDARD
END:VTIMEZONE
BEGIN:VEVENT
DTSTART;TZID=America/New_York:20250324T190000
DTEND;TZID=America/New_York:20250324T210000
DTSTAMP:20260424T173937
CREATED:20250304T154731Z
LAST-MODIFIED:20250304T161753Z
UID:445-1742842800-1742850000@richmondpride.org
SUMMARY:Drag Bingo March 24th Richmond Pride Festival Fundraiser!
DESCRIPTION:Join us on Monday\, March 24th from 7-9pm for Drag Night Bingo at Dreaming Creek Brewery! ALL ages are welcomed and proceeds benefit Richmond Pride!This is the first official event benefiting the Richmond Pride Festival for our 5th year\, so come out to help raise some money and win some prizes!
URL:https://richmondpride.org/event/march-24th-2025-drag-bingo/
LOCATION:Dreaming Creek Brewery\, 109 E Irvine St\, Richmond\, KY\, 40475\, United States
ATTACH;FMTTYPE=image/jpeg:https://richmondpride.org/wp-content/uploads/2025/03/481447745_1162466038997798_2526807764218356080_n.jpg
END:VEVENT
END:VCALENDAR