BEGIN:VCALENDAR
VERSION:2.0
PRODID:-//Richmond Pride - ECPv6.15.20//NONSGML v1.0//EN
CALSCALE:GREGORIAN
METHOD:PUBLISH
X-ORIGINAL-URL:https://richmondpride.org
X-WR-CALDESC:Events for Richmond Pride
REFRESH-INTERVAL;VALUE=DURATION:PT1H
X-Robots-Tag:noindex
X-PUBLISHED-TTL:PT1H
BEGIN:VTIMEZONE
TZID:America/Kentucky/Louisville
BEGIN:DAYLIGHT
TZOFFSETFROM:-0500
TZOFFSETTO:-0400
TZNAME:EDT
DTSTART:20240310T070000
END:DAYLIGHT
BEGIN:STANDARD
TZOFFSETFROM:-0400
TZOFFSETTO:-0500
TZNAME:EST
DTSTART:20241103T060000
END:STANDARD
BEGIN:DAYLIGHT
TZOFFSETFROM:-0500
TZOFFSETTO:-0400
TZNAME:EDT
DTSTART:20250309T070000
END:DAYLIGHT
BEGIN:STANDARD
TZOFFSETFROM:-0400
TZOFFSETTO:-0500
TZNAME:EST
DTSTART:20251102T060000
END:STANDARD
BEGIN:DAYLIGHT
TZOFFSETFROM:-0500
TZOFFSETTO:-0400
TZNAME:EDT
DTSTART:20260308T070000
END:DAYLIGHT
BEGIN:STANDARD
TZOFFSETFROM:-0400
TZOFFSETTO:-0500
TZNAME:EST
DTSTART:20261101T060000
END:STANDARD
END:VTIMEZONE
BEGIN:VEVENT
DTSTART;TZID=America/Kentucky/Louisville:20250607T120000
DTEND;TZID=America/Kentucky/Louisville:20250607T200000
DTSTAMP:20260424T123122
CREATED:20250220T082043Z
LAST-MODIFIED:20250220T091416Z
UID:293-1749297600-1749326400@richmondpride.org
SUMMARY:Richmond Pride Festival – Celebrating 5 Years!
DESCRIPTION:Join us Saturday\, June 7th\, from 12 PM – 8 PM for Richmond Pride Festival—a FREE\, vibrant celebration of love\, equality\, and community! 🎉 \nExpect a full day of joy\, with live music\, electrifying performances\, fabulous drag shows\, delicious food trucks\, local vendors\, and an atmosphere of pure acceptance. Whether you’re dancing in the park (or parking lot)\, waving your flag high\, or connecting with local LGBTQIA+ organizations\, this festival is about celebrating who you are—loud and proud! \nWhy Pride MattersPride festivals are more than just parties—they’re powerful statements of visibility\, resilience\, and love. They honor the struggles and victories of the LGBTQIA+ community while fostering a more inclusive and understanding society. Your presence at Pride is more than just fun—it’s a way to show solidarity\, support\, and strength. \nWhy You Should Be ThereBy participating\, you’re helping build a stronger\, more connected community. Pride is a space where everyone—no matter their identity—can come together to uplift\, educate\, and celebrate. Plus\, it’s a chance to meet amazing people\, support local LGBTQ+ businesses\, and be part of something truly special. \nSo mark your calendar\, bring your friends\, and get ready to celebrate love\, equality\, and PRIDE!
URL:https://richmondpride.org/event/richmond-pride-festival/
LOCATION:Irvine McDowell Park\, 345 Lancaster Avenue\, Richmond\, KY\, 40475\, United States
CATEGORIES:Festivals
ORGANIZER;CN="Richmond Pride":MAILTO:hello@richmondpride.org
END:VEVENT
END:VCALENDAR