BEGIN:VCALENDAR
VERSION:2.0
PRODID:-//Richmond Pride - ECPv6.15.20//NONSGML v1.0//EN
CALSCALE:GREGORIAN
METHOD:PUBLISH
X-WR-CALNAME:Richmond Pride
X-ORIGINAL-URL:https://richmondpride.org
X-WR-CALDESC:Events for Richmond Pride
REFRESH-INTERVAL;VALUE=DURATION:PT1H
X-Robots-Tag:noindex
X-PUBLISHED-TTL:PT1H
BEGIN:VTIMEZONE
TZID:America/New_York
BEGIN:DAYLIGHT
TZOFFSETFROM:-0500
TZOFFSETTO:-0400
TZNAME:EDT
DTSTART:20240310T070000
END:DAYLIGHT
BEGIN:STANDARD
TZOFFSETFROM:-0400
TZOFFSETTO:-0500
TZNAME:EST
DTSTART:20241103T060000
END:STANDARD
BEGIN:DAYLIGHT
TZOFFSETFROM:-0500
TZOFFSETTO:-0400
TZNAME:EDT
DTSTART:20250309T070000
END:DAYLIGHT
BEGIN:STANDARD
TZOFFSETFROM:-0400
TZOFFSETTO:-0500
TZNAME:EST
DTSTART:20251102T060000
END:STANDARD
BEGIN:DAYLIGHT
TZOFFSETFROM:-0500
TZOFFSETTO:-0400
TZNAME:EDT
DTSTART:20260308T070000
END:DAYLIGHT
BEGIN:STANDARD
TZOFFSETFROM:-0400
TZOFFSETTO:-0500
TZNAME:EST
DTSTART:20261101T060000
END:STANDARD
END:VTIMEZONE
BEGIN:VEVENT
DTSTART;TZID=America/New_York:20251124T180000
DTEND;TZID=America/New_York:20251124T210000
DTSTAMP:20260424T035618
CREATED:20251124T110045Z
LAST-MODIFIED:20251123T235113Z
UID:782-1764007200-1764018000@richmondpride.org
SUMMARY:Holiday Gaythering
DESCRIPTION:We are partnering with Dreaming Creek Brewery again this year for our annual community holiday meal. \n\n\n\nThis will be a FREE potluck style feast; bring a dish if you can\, if not come and celebrate thanksgiving with members of your community! \n\n\n\nWe look forward to seeing you there!  
URL:https://richmondpride.org/event/holiday-gaythering/
LOCATION:Dreaming Creek Brewery\, 109 E Irvine St\, Richmond\, KY\, 40475\, United States
CATEGORIES:Holiday Events
ATTACH;FMTTYPE=image/jpeg:https://richmondpride.org/wp-content/uploads/2025/11/575099548_1358021666108900_6667577898383995649_n.jpg
ORGANIZER;CN="Richmond Pride":MAILTO:hello@richmondpride.org
END:VEVENT
END:VCALENDAR