BEGIN:VCALENDAR
VERSION:2.0
PRODID:-//Richmond Pride - ECPv6.15.20//NONSGML v1.0//EN
CALSCALE:GREGORIAN
METHOD:PUBLISH
X-WR-CALNAME:Richmond Pride
X-ORIGINAL-URL:https://richmondpride.org
X-WR-CALDESC:Events for Richmond Pride
REFRESH-INTERVAL;VALUE=DURATION:PT1H
X-Robots-Tag:noindex
X-PUBLISHED-TTL:PT1H
BEGIN:VTIMEZONE
TZID:America/New_York
BEGIN:DAYLIGHT
TZOFFSETFROM:-0500
TZOFFSETTO:-0400
TZNAME:EDT
DTSTART:20250309T070000
END:DAYLIGHT
BEGIN:STANDARD
TZOFFSETFROM:-0400
TZOFFSETTO:-0500
TZNAME:EST
DTSTART:20251102T060000
END:STANDARD
BEGIN:DAYLIGHT
TZOFFSETFROM:-0500
TZOFFSETTO:-0400
TZNAME:EDT
DTSTART:20260308T070000
END:DAYLIGHT
BEGIN:STANDARD
TZOFFSETFROM:-0400
TZOFFSETTO:-0500
TZNAME:EST
DTSTART:20261101T060000
END:STANDARD
BEGIN:DAYLIGHT
TZOFFSETFROM:-0500
TZOFFSETTO:-0400
TZNAME:EDT
DTSTART:20270314T070000
END:DAYLIGHT
BEGIN:STANDARD
TZOFFSETFROM:-0400
TZOFFSETTO:-0500
TZNAME:EST
DTSTART:20271107T060000
END:STANDARD
END:VTIMEZONE
BEGIN:VEVENT
DTSTART;TZID=America/New_York:20260516T173000
DTEND;TZID=America/New_York:20260516T203000
DTSTAMP:20260423T205558
CREATED:20260111T213044Z
LAST-MODIFIED:20260327T213952Z
UID:948-1778952600-1778963400@richmondpride.org
SUMMARY:Monthly Community Social
DESCRIPTION:Richmond Pride’s monthly community social is a meetup for Richmond’s LGBT community to come together and hang out every third Saturday of the month. \n\n\n\nLocation TBD.
URL:https://richmondpride.org/event/monthly-community-social-6/
LOCATION:Kentucky
ORGANIZER;CN="Richmond Pride":MAILTO:hello@richmondpride.org
END:VEVENT
END:VCALENDAR